BEGIN:VCALENDAR
VERSION:2.0
PRODID:-//Föreningen Sofia - ECPv4.9.13//NONSGML v1.0//EN
CALSCALE:GREGORIAN
METHOD:PUBLISH
X-WR-CALNAME:Föreningen Sofia
X-ORIGINAL-URL:https://foreningensofia.org
X-WR-CALDESC:Events for Föreningen Sofia
BEGIN:VTIMEZONE
TZID:Europe/Stockholm
BEGIN:DAYLIGHT
TZOFFSETFROM:+0100
TZOFFSETTO:+0200
TZNAME:CEST
DTSTART:20190331T010000
END:DAYLIGHT
BEGIN:STANDARD
TZOFFSETFROM:+0200
TZOFFSETTO:+0100
TZNAME:CET
DTSTART:20191027T010000
END:STANDARD
END:VTIMEZONE
BEGIN:VEVENT
DTSTART;VALUE=DATE:20190318
DTEND;VALUE=DATE:20190324
DTSTAMP:20260421T213032
CREATED:20190123T091731Z
LAST-MODIFIED:20190123T091731Z
UID:1084-1552867200-1553385599@foreningensofia.org
SUMMARY:South Africa - project follow up
DESCRIPTION:Nina Ljungsten travels for a project follow up of Ithemba project in South Africa. \n
URL:https://foreningensofia.org/kalender/south-africa-project-follow-up-2/
LOCATION:Novalis Institute\, Sydafrika
ATTACH;FMTTYPE=image/png:https://foreningensofia.org/wp-content/uploads/2018/11/2-1-1.png
END:VEVENT
END:VCALENDAR