BEGIN:VCALENDAR
VERSION:2.0
PRODID:-//Föreningen Sofia - ECPv4.9.13//NONSGML v1.0//EN
CALSCALE:GREGORIAN
METHOD:PUBLISH
X-WR-CALNAME:Föreningen Sofia
X-ORIGINAL-URL:https://foreningensofia.org
X-WR-CALDESC:Events for Föreningen Sofia
BEGIN:VTIMEZONE
TZID:Europe/Stockholm
BEGIN:DAYLIGHT
TZOFFSETFROM:+0100
TZOFFSETTO:+0200
TZNAME:CEST
DTSTART:20190331T010000
END:DAYLIGHT
BEGIN:STANDARD
TZOFFSETFROM:+0200
TZOFFSETTO:+0100
TZNAME:CET
DTSTART:20191027T010000
END:STANDARD
END:VTIMEZONE
BEGIN:VEVENT
DTSTART;VALUE=DATE:20190930
DTEND;VALUE=DATE:20191014
DTSTAMP:20260425T141906
CREATED:20190611T152051Z
LAST-MODIFIED:20190611T152051Z
UID:1094-1569801600-1571011199@foreningensofia.org
SUMMARY:SOFIAs Utställning
DESCRIPTION:SOFIA har utställning på Åsgatan kafé \n
URL:https://foreningensofia.org/kalender/sofias-utstallning-2/
END:VEVENT
END:VCALENDAR