BEGIN:VCALENDAR
VERSION:2.0
PRODID:-//Föreningen Sofia - ECPv4.9.13//NONSGML v1.0//EN
CALSCALE:GREGORIAN
METHOD:PUBLISH
X-WR-CALNAME:Föreningen Sofia
X-ORIGINAL-URL:https://foreningensofia.org
X-WR-CALDESC:Events for Föreningen Sofia
BEGIN:VTIMEZONE
TZID:Europe/Stockholm
BEGIN:DAYLIGHT
TZOFFSETFROM:+0100
TZOFFSETTO:+0200
TZNAME:CEST
DTSTART:20190331T010000
END:DAYLIGHT
BEGIN:STANDARD
TZOFFSETFROM:+0200
TZOFFSETTO:+0100
TZNAME:CET
DTSTART:20191027T010000
END:STANDARD
END:VTIMEZONE
BEGIN:VEVENT
DTSTART;VALUE=DATE:20190907
DTEND;VALUE=DATE:20190909
DTSTAMP:20260422T231017
CREATED:20190611T151912Z
LAST-MODIFIED:20190611T151912Z
UID:1167-1567814400-1567987199@foreningensofia.org
SUMMARY:SOFIAs Projektledarmöte och verksamhetsråd
DESCRIPTION:Projektledarmöte och verksamhetsråd äger rum  i Sofias lokal på Storgatan 2 med start på eftermiddagen den 7 september för projektledare och fortsättning den 8 september med verksamhetsråd. \n
URL:https://foreningensofia.org/kalender/sofias-projektledarmote-och-verksamhetsrad-3/
END:VEVENT
END:VCALENDAR