BEGIN:VCALENDAR
VERSION:2.0
PRODID:-//Föreningen Sofia - ECPv4.9.13//NONSGML v1.0//EN
CALSCALE:GREGORIAN
METHOD:PUBLISH
X-WR-CALNAME:Föreningen Sofia
X-ORIGINAL-URL:https://foreningensofia.org
X-WR-CALDESC:Events for Föreningen Sofia
BEGIN:VTIMEZONE
TZID:Europe/Stockholm
BEGIN:DAYLIGHT
TZOFFSETFROM:+0100
TZOFFSETTO:+0200
TZNAME:CEST
DTSTART:20190331T010000
END:DAYLIGHT
BEGIN:STANDARD
TZOFFSETFROM:+0200
TZOFFSETTO:+0100
TZNAME:CET
DTSTART:20191027T010000
END:STANDARD
END:VTIMEZONE
BEGIN:VEVENT
DTSTART;VALUE=DATE:20190909
DTEND;VALUE=DATE:20190914
DTSTAMP:20260423T010134
CREATED:20190123T093129Z
LAST-MODIFIED:20190123T093129Z
UID:969-1567987200-1568419199@foreningensofia.org
SUMMARY:SKOLTURNÉ - Guinéa - Sverige
DESCRIPTION:En bit av Guinea kommer till din skola – kostnadsfritt. \nSOFIA ordnar årets skolturné med vårt projekt från Guinea. Vi använder musik\, dans och berättelser som verktyg för att öka elevernas kunskap om rätten till utbildning i Guinea. Våra turnégäster är Viveka Sjögren Bangoura och Lansana Bangoura\, grundare till skolan École Lo\, en waldorfinspirerad skola som skapats för att ge en god utbildning till barnen i ett litet jordbrukssamhälle i Guinea.  Lansana Bangoura är dansare och musiker\, kommer från byn Diogoya i Guinea och bor i Sverige sedan 2009. Viveka Sjögren Bangoura\, är författare och illustratör\, bor i Delsbo\, och jobbar aktivt med och för barn och barns rättigheter. \nSkolorna som deltar får även en liten bok om École Lo\, skriven av Viveka Sjögren \n
URL:https://foreningensofia.org/kalender/skolturne-guinea-sverige/
LOCATION:Sverige\, Sverige
CATEGORIES:Information project
ATTACH;FMTTYPE=image/png:https://foreningensofia.org/wp-content/uploads/2018/11/10-1-1.png
END:VEVENT
END:VCALENDAR